BEGIN:VCALENDAR
VERSION:2.0
PRODID:-//JL Patisserie - ECPv6.15.20//NONSGML v1.0//EN
CALSCALE:GREGORIAN
METHOD:PUBLISH
X-WR-CALNAME:JL Patisserie
X-ORIGINAL-URL:https://jlpatisserie.com
X-WR-CALDESC:Events for JL Patisserie
REFRESH-INTERVAL;VALUE=DURATION:PT1H
X-Robots-Tag:noindex
X-PUBLISHED-TTL:PT1H
BEGIN:VTIMEZONE
TZID:America/Phoenix
BEGIN:STANDARD
TZOFFSETFROM:-0700
TZOFFSETTO:-0700
TZNAME:MST
DTSTART:20200101T000000
END:STANDARD
END:VTIMEZONE
BEGIN:VEVENT
DTSTART;TZID=America/Phoenix:20211202T170000
DTEND;TZID=America/Phoenix:20211202T190000
DTSTAMP:20260425T105812
CREATED:20211121T191608Z
LAST-MODIFIED:20211121T192716Z
UID:5113-1638464400-1638471600@jlpatisserie.com
SUMMARY:Macaron Baking Class - FRENCH SPEAKING
DESCRIPTION:FRENCH SPEAKING Macaron Class Level: All (French-Speaking Class) \nFrench-Speaking Class: Calling the French community in Arizona! Come join us in a macaron baking class where Chef Jenna will teach in French. \nIn this specific class\, you will be mastering the art of macarons while getting to practice your french. \nJoin pastry chef Jenna Leurquin and learn to confection authentic french macarons from scratch. The chef will go over the ingredients necessary\, how to select quality ingredients and all the tools to prepare the batter and filling ganaches.  You will also get to discover decorating tricks and tools for successful baking and consistent finish. \nMust be 14 or older to attend. Younger ages are allowed to join a class as long as they are accompanied by a parent/legal guardian. \nThis is a French-speaking macaron class\, where everything will be taught in French. Must be pro-efficient in French. \nLimited class of 14. \nCouple of things to know before your french baking classes: \n\nDo not wear open-toe shoes\, sandals\, or heels as our kitchen floor can be very slippery. Sneakers and low platform shoes are best.\nFace coverings/masks are optional! Regardless\, remain aware and respectful of others.\nCasual attire is best\, as you might be getting dirty.\nWe are a fun BYOW environment! (Bring Your Own Wine) Let’s Bake and Drink!\nBook your class today!\n\nAll sales are final.
URL:https://jlpatisserie.com/class/french-speaking-macaron-class/
LOCATION:JL Patisserie\, 7342 E shea Blvd #108\, Scottsdale\, AZ\, 85260\, United States
CATEGORIES:Baking Classes
ATTACH;FMTTYPE=image/png:https://jlpatisserie.com/wp-content/uploads/Screen-Shot-2018-12-14-at-11.54.02-PM.png
END:VEVENT
BEGIN:VEVENT
DTSTART;TZID=America/Phoenix:20211204T163000
DTEND;TZID=America/Phoenix:20211204T193000
DTSTAMP:20260425T105812
CREATED:20211121T191325Z
LAST-MODIFIED:20211121T193622Z
UID:5119-1638635400-1638646200@jlpatisserie.com
SUMMARY:French Croissant Baking Class
DESCRIPTION:French Croissant Baking Class – Level: All \nFlaky layers of buttery goodness? Totally doable! We’ll show you how—from mixing and laminating dough to shaping and baking two types of croissants. And the best part? Sampling all your amazing creations. \nGreat croissant is about more than a recipe; it’s about technique. In our French croissant baking class\, you’ll work together with other students in a fun\, hands-on environment led by Jenna Leurquin. The chef will go over the ingredients necessary\, how to select quality ingredients\, how to work and shape the dough and how to properly laminate it with butter. We will also go over proper proofing and natural fermentation methods such as sourdough levain. \nMust be 16 or older to attend our croissant baking class. If younger must be accompanied by an adult. \nCouple of things to know before your french baking classes: \n\nDo not wear open-toe shoes\, sandals\, or heels as our kitchen floor can be very slippery. Sneakers and low platform shoes are best.\nFace coverings/masks are optional! Regardless\, remain aware and respectful of others.\nCasual attire is best\, as you might be getting dirty.\nWe are a fun BYOW environment! (Bring Your Own Wine) Let’s Bake and Drink!\nBook your class today!\n\nAll sales are final. \nClasses will take place at our Scottsdale location. Spots are limited and reserve fast!\n\nIf you encounter any problems while purchasing your baking class ticket\, call us or email us and we will be happy to assist you with your order. We still offer our private baking classes like we have been doing so\, but now you can easily join a group of people who share the same excitement to experience what our bakers do every day.\n\n\n\nAll sales are final.
URL:https://jlpatisserie.com/class/french-croissant-baking-class/
LOCATION:JL Patisserie\, 7342 E shea Blvd #108\, Scottsdale\, AZ\, 85260\, United States
CATEGORIES:Baking Classes
ATTACH;FMTTYPE=image/jpeg:https://jlpatisserie.com/wp-content/uploads/Facetune_17-09-2021-13-13-27-scaled.jpg
END:VEVENT
BEGIN:VEVENT
DTSTART;TZID=America/Phoenix:20211210T170000
DTEND;TZID=America/Phoenix:20211210T190000
DTSTAMP:20260425T105812
CREATED:20211121T190758Z
LAST-MODIFIED:20211209T173031Z
UID:5110-1639155600-1639162800@jlpatisserie.com
SUMMARY:Macaron Baking Class
DESCRIPTION:Macaron Baking Class Level: All. \nJL Patisserie offers not only high-end pastries but high-end baking classes located right here in Scottsdale\, Arizona. Classes range from learning how to make bread\, eclairs\, croissants\, macarons\, and more. You will become a French baker in no time! Bring along your friends or family for a good time and work alongside others who will also be joining this class. In this specific class\, you will be mastering the art of macarons. \nJoin pastry chef Jenna Leurquin and learn to confection authentic french macarons from scratch. The chef will go over the ingredients necessary\, how to select quality ingredients and all the tools to prepare the batter and filling ganaches.  You will also get to discover decorating tricks and tools for successful baking and consistent finish. \nMust be 16 or older to attend. Younger ages are allowed to join a class as long as they are accompanied by a parent/legal guardian. \nLimited class of 14. \nCouple of things to know before your french baking classes: \n\nDo not wear open-toe shoes\, sandals\, or heels as our kitchen floor can be very slippery. Sneakers and low platform shoes are best.\nFace coverings/masks are optional! Regardless\, remain aware and respectful of others.\nCasual attire is best\, as you might be getting dirty.\nWe are a fun BYOW environment! (Bring Your Own Wine) Let’s Bake and Drink!\nBook your class today!\n\nAll sales are final.
URL:https://jlpatisserie.com/class/macaron-baking-class-date-night/
LOCATION:JL Patisserie\, 7342 E shea Blvd #108\, Scottsdale\, AZ\, 85260\, United States
CATEGORIES:Baking Classes
ATTACH;FMTTYPE=image/png:https://jlpatisserie.com/wp-content/uploads/Screen-Shot-2018-12-14-at-11.54.02-PM.png
END:VEVENT
BEGIN:VEVENT
DTSTART;TZID=America/Phoenix:20211212T160000
DTEND;TZID=America/Phoenix:20211212T180000
DTSTAMP:20260425T105812
CREATED:20180501T215111Z
LAST-MODIFIED:20211121T193652Z
UID:486-1639324800-1639332000@jlpatisserie.com
SUMMARY:Belgian Waffles - Baking Class
DESCRIPTION:Belgian Waffles Baking Class Level: All \nHailing from Belgium\, Pastry Chef\, Jenna Leurquin will share her expertise on the desserts of this country rich in history and culture. During our Belgian waffles baking class\, students will learn how to make two types of Belgian waffles\, one originating from Brussels and the other from Liège. In addition\, attendees will learn waffle toppings and the traditional way of properly eating waffles. \nWith your new skills\, you will achieve the perfect Belgian waffles at home. Make your Christmas mornings special and make it a breakfast tradition. \nMust be 16 or older to attend the class (Minors must be accompanied by an adult). \nCouple of things to know before your french baking classes: \n\nDo not wear open-toe shoes\, sandals\, or heels as our kitchen floor can be very slippery. Sneakers and low platform shoes are best.\nFace coverings/masks are optional! Regardless\, remain aware and respectful of others.\nCasual attire is best\, as you might be getting dirty.\nWe are a fun BYOW environment! (Bring Your Own Wine) Let’s Bake and Drink!\nBook your class today!\n\nAll sales are final.
URL:https://jlpatisserie.com/class/belgian-waffles-baking-class/
LOCATION:JL Patisserie\, 7342 E shea Blvd #108\, Scottsdale\, AZ\, 85260\, United States
CATEGORIES:Baking Classes
ATTACH;FMTTYPE=image/jpeg:https://jlpatisserie.com/wp-content/uploads/download-1.jpg
END:VEVENT
BEGIN:VEVENT
DTSTART;TZID=America/Phoenix:20211218T153000
DTEND;TZID=America/Phoenix:20211218T163000
DTSTAMP:20260425T105812
CREATED:20211121T190527Z
LAST-MODIFIED:20211121T192306Z
UID:5124-1639841400-1639845000@jlpatisserie.com
SUMMARY:Christmas Baking Class For Kids - Cookies
DESCRIPTION:Christmas Baking Class for Kids – Level: All \nJL Patisserie offers not only high-end pastries but high-end baking classes located right here in Scottsdale\, Arizona. Classes range from learning how to make bread\, eclairs\, croissants\, macarons\, and more. You will become a French baker in no time! \nThis Christmas baking class for kids is the perfect activity for children\, especially for those who love the Holiday. Kids will participate in a safe and fun hands-on baking class\, as well as also learn basic culinary skills and recipes. This is the perfect opportunity to let your child dive into the culinary world. In this specific class\, kids will be mastering the art of making and decorating holiday cookies. Students will get to enjoy their creations when class ends. \nLimited class of 14. \nAges 10 and older. \nClass duration is one hour. \nCouple things to know before your Christmas baking class: \n\nCasual attire\nDo not to wear open toe shoes such as sandals as our kitchen floor can be very slippery. Sneakers and low platform shoes are best.\nFace coverings will be optional.\nBook a class today!\n\nAll sales are final.
URL:https://jlpatisserie.com/class/christmas-baking-class-for-kids-cookies/
LOCATION:JL Patisserie\, 7342 E shea Blvd #108\, Scottsdale\, AZ\, 85260\, United States
CATEGORIES:Baking Classes
ATTACH;FMTTYPE=image/jpeg:https://jlpatisserie.com/wp-content/uploads/DSC_0725-scaled.jpg
END:VEVENT
END:VCALENDAR