BEGIN:VCALENDAR
VERSION:2.0
PRODID:-//JL Patisserie - ECPv6.15.20//NONSGML v1.0//EN
CALSCALE:GREGORIAN
METHOD:PUBLISH
X-WR-CALNAME:JL Patisserie
X-ORIGINAL-URL:https://jlpatisserie.com
X-WR-CALDESC:Events for JL Patisserie
REFRESH-INTERVAL;VALUE=DURATION:PT1H
X-Robots-Tag:noindex
X-PUBLISHED-TTL:PT1H
BEGIN:VTIMEZONE
TZID:America/Phoenix
BEGIN:STANDARD
TZOFFSETFROM:-0700
TZOFFSETTO:-0700
TZNAME:MST
DTSTART:20210101T000000
END:STANDARD
END:VTIMEZONE
BEGIN:VEVENT
DTSTART;TZID=America/Phoenix:20220113T170000
DTEND;TZID=America/Phoenix:20220113T190000
DTSTAMP:20260425T090221
CREATED:20211210T232632Z
LAST-MODIFIED:20220113T161357Z
UID:5477-1642093200-1642100400@jlpatisserie.com
SUMMARY:Authentic French Eclairs Baking Class with Chef Jenna Leurquin
DESCRIPTION:Authentic French Eclairs Baking Class – Level: All. \n\nWe are mad about Choux pastry! Introducing our eclairs baking class dedicated to this versatile French dough\, the pâte à choux. Think cream puffs with that oh so French touch!  \nYou have no doubt already indulged in French pastries using this dough. Whether as a savoury cheesy gougère or a cream-filled sweet éclair – this is a recipe to add to your repertoire. In this 2-hour French eclair baking class\, we’ll be concentrating the éclair which is a part of the choux pastry family\, as is profiteroles and other classic french pastries.  \n\nDuring this eclair baking class\, you will learn how to dry the eclair dough and shape in various forms. You will also learn different filling and glazing options and uses to make either breakfast or plated desserts for your guests. \nMust be 16 or older to attend. \nDo not to wear open toe shoes\, sandals or heels as our kitchen floor can be very slippery. Sneakers and low platform shoes are best. \nBring your face covering/mask! As they will be required. If you enter our bakery without a mask\, you will be asked to leave. Let’s stay safe and take precaution. Thank you for understanding! \nWe will provide you with an apron upon your arrival that you will wear during the duration of your class. (Apron will be available for purchase) \nWe are a fun BYOW environment! (Bring Your Own Wine) Let’s Bake and Drink! \nall sale are final. \nBOOK YOUR CLASS!
URL:https://jlpatisserie.com/class/authentic-french-eclairs-baking-class-with-chef-jenna-leurquin/
LOCATION:JL Patisserie\, 7342 E shea Blvd #108\, Scottsdale\, AZ\, 85260\, United States
CATEGORIES:Baking Classes
ATTACH;FMTTYPE=image/jpeg:https://jlpatisserie.com/wp-content/uploads/Chocolate-Éclair.jpg
END:VEVENT
BEGIN:VEVENT
DTSTART;TZID=America/Phoenix:20220115T163000
DTEND;TZID=America/Phoenix:20220115T193000
DTSTAMP:20260425T090221
CREATED:20211210T231712Z
LAST-MODIFIED:20211217T210341Z
UID:5437-1642264200-1642275000@jlpatisserie.com
SUMMARY:French Croissant Baking Class
DESCRIPTION:French Croissant Baking Class – Level: All \nFlaky layers of buttery goodness? Totally doable! We’ll show you how—from mixing and laminating dough to shaping and baking two types of croissants. And the best part? Sampling all your amazing creations. \nGreat croissant is about more than a recipe; it’s about technique. In our French croissant baking class\, you’ll work together with other students in a fun\, hands-on environment led by Jenna Leurquin. The chef will go over the ingredients necessary\, how to select quality ingredients\, how to work and shape the dough and how to properly laminate it with butter. We will also go over proper proofing and natural fermentation methods such as sourdough levain. \nMust be 16 or older to attend our croissant baking class. If younger must be accompanied by an adult. \nCouple of things to know before your french baking classes: \n\nDo not wear open-toe shoes\, sandals\, or heels as our kitchen floor can be very slippery. Sneakers and low platform shoes are best.\nFace coverings/masks are optional! Regardless\, remain aware and respectful of others.\nCasual attire is best\, as you might be getting dirty.\nWe are a fun BYOW environment! (Bring Your Own Wine) Let’s Bake and Drink!\nBook your class today!\n\nAll sales are final. \nClasses will take place at our Scottsdale location. Spots are limited and reserve fast!\n\nIf you encounter any problems while purchasing your baking class ticket\, call us or email us and we will be happy to assist you with your order. We still offer our private baking classes like we have been doing so\, but now you can easily join a group of people who share the same excitement to experience what our bakers do every day.\n\n\n\nAll sales are final.
URL:https://jlpatisserie.com/class/french-croissant-baking-class-2/
LOCATION:JL Patisserie\, 7342 E shea Blvd #108\, Scottsdale\, AZ\, 85260\, United States
CATEGORIES:Baking Classes
ATTACH;FMTTYPE=image/jpeg:https://jlpatisserie.com/wp-content/uploads/Facetune_17-09-2021-13-13-27-scaled.jpg
END:VEVENT
BEGIN:VEVENT
DTSTART;TZID=America/Phoenix:20220119T170000
DTEND;TZID=America/Phoenix:20220119T190000
DTSTAMP:20260425T090221
CREATED:20211210T231600Z
LAST-MODIFIED:20211210T231600Z
UID:5472-1642611600-1642618800@jlpatisserie.com
SUMMARY:Macaron Baking Class
DESCRIPTION:Macaron Baking Class Level: All. \nJL Patisserie offers not only high-end pastries but high-end baking classes located right here in Scottsdale\, Arizona. Classes range from learning how to make bread\, eclairs\, croissants\, macarons\, and more. You will become a French baker in no time! Bring along your friends or family for a good time and work alongside others who will also be joining this class. In this specific class\, you will be mastering the art of macarons. \nJoin pastry chef Jenna Leurquin and learn to confection authentic french macarons from scratch. The chef will go over the ingredients necessary\, how to select quality ingredients and all the tools to prepare the batter and filling ganaches.  You will also get to discover decorating tricks and tools for successful baking and consistent finish. \nMust be 16 or older to attend. Younger ages are allowed to join a class as long as they are accompanied by a parent/legal guardian. \nLimited class of 14. \nCouple of things to know before your french baking classes: \n\nDo not wear open-toe shoes\, sandals\, or heels as our kitchen floor can be very slippery. Sneakers and low platform shoes are best.\nFace coverings/masks are optional! Regardless\, remain aware and respectful of others.\nCasual attire is best\, as you might be getting dirty.\nWe are a fun BYOW environment! (Bring Your Own Wine) Let’s Bake and Drink!\nBook your class today!\n\nAll sales are final.
URL:https://jlpatisserie.com/class/macaron-baking-class/
LOCATION:JL Patisserie\, 7342 E shea Blvd #108\, Scottsdale\, AZ\, 85260\, United States
CATEGORIES:Baking Classes
ATTACH;FMTTYPE=image/png:https://jlpatisserie.com/wp-content/uploads/Screen-Shot-2018-12-14-at-11.54.02-PM.png
END:VEVENT
END:VCALENDAR