BEGIN:VCALENDAR
VERSION:2.0
PRODID:-//JL Patisserie - ECPv6.15.20//NONSGML v1.0//EN
CALSCALE:GREGORIAN
METHOD:PUBLISH
X-ORIGINAL-URL:https://jlpatisserie.com
X-WR-CALDESC:Events for JL Patisserie
REFRESH-INTERVAL;VALUE=DURATION:PT1H
X-Robots-Tag:noindex
X-PUBLISHED-TTL:PT1H
BEGIN:VTIMEZONE
TZID:America/Phoenix
BEGIN:STANDARD
TZOFFSETFROM:-0700
TZOFFSETTO:-0700
TZNAME:MST
DTSTART:20210101T000000
END:STANDARD
END:VTIMEZONE
BEGIN:VEVENT
DTSTART;TZID=America/Phoenix:20220410T150000
DTEND;TZID=America/Phoenix:20220410T160000
DTSTAMP:20260425T035451
CREATED:20220321T153102Z
LAST-MODIFIED:20220321T153102Z
UID:6431-1649602800-1649606400@jlpatisserie.com
SUMMARY:Baking Class For Kids - Easter Cake Pops
DESCRIPTION:Baking Class for Kids – Easter Cake Pops \nLevel: All \nJL Patisserie offers not only high-end pastries but high-end baking classes located right here in Scottsdale\, Arizona. Classes range from learning how to make bread\, eclairs\, croissants\, macarons\, and more. You will become a French baker in no time! \nThis baking class for kids is the perfect activity for children on Easter\, especially for those who are huge fans of this lovely day. Kids will participate in a safe and fun hands-on baking class\, as well as also learn basic culinary skills and recipes. This is the perfect opportunity to let your child dive into the culinary world. In this specific class\, kids will be mastering the art of making cake pops. Students will get to enjoy their creations when class ends. \nLimited class of 14. \nAges 7 and older. \nClass duration is one hour. \nA couple things to know before your class: \n\nCasual attire\nDo not to wear open toe shoes such as sandals as our kitchen floor can be very slippery. Sneakers and low platform shoes are best.\nFace coverings will be optional.\nBook a class today!\n\nAll sales are final.
URL:https://jlpatisserie.com/class/baking-class-for-kids-easter-cake-pops/
LOCATION:JL Patisserie\, 7342 E shea Blvd #108\, Scottsdale\, AZ\, 85260\, United States
CATEGORIES:Baking Classes
ATTACH;FMTTYPE=image/jpeg:https://jlpatisserie.com/wp-content/uploads/iStock-655164858.jpg
END:VEVENT
BEGIN:VEVENT
DTSTART;TZID=America/Phoenix:20220423T163000
DTEND;TZID=America/Phoenix:20220423T193000
DTSTAMP:20260425T035451
CREATED:20220321T153245Z
LAST-MODIFIED:20220321T170418Z
UID:6425-1650731400-1650742200@jlpatisserie.com
SUMMARY:French Croissant Baking Class
DESCRIPTION:French Croissant Baking Class – Level: All \nFlaky layers of buttery goodness? Totally doable! We’ll show you how—from mixing and laminating dough to shaping and baking two types of croissants. And the best part? Sampling all your amazing creations. \nGreat croissant is about more than a recipe; it’s about technique. In our French croissant baking class\, you’ll work together with other students in a fun\, hands-on environment led by Jenna Leurquin. The chef will go over the ingredients necessary\, how to select quality ingredients\, how to work and shape the dough and how to properly laminate it with butter. We will also go over proper proofing and natural fermentation methods such as sourdough levain. \nMust be 16 or older to attend our croissant baking class. If younger must be accompanied by an adult. \nClasses will take place at our Scottsdale location. Spots are limited and reserve fast!\nFew things to know before your french baking classes: \n\nDo not wear open-toe shoes\, sandals\, or heels as our kitchen floor can be very slippery. Sneakers and low platform shoes are best.\nFace coverings/masks are optional! Regardless\, remain aware and respectful of others.\nCasual attire is best\, as you might be getting dirty.\nWe are a fun BYOW environment! (Bring Your Own Wine) Let’s Bake and Drink!\nBook your class today!\n\nClasses will take place at our Scottsdale location. Spots are limited and reserve fast!\n\nIf you encounter any problems while purchasing your baking class ticket\, call us or email us and we will be happy to assist you with your order. We still offer our private baking classes like we have been doing so\, but now you can easily join a group of people who share the same excitement to experience what our bakers do every day.\n\n\n\nAll sales are final.
URL:https://jlpatisserie.com/class/french-croissant-baking-class-5/
LOCATION:JL Patisserie\, 7342 E shea Blvd #108\, Scottsdale\, AZ\, 85260\, United States
CATEGORIES:Baking Classes
ATTACH;FMTTYPE=image/jpeg:https://jlpatisserie.com/wp-content/uploads/Facetune_17-09-2021-13-13-27-scaled.jpg
END:VEVENT
BEGIN:VEVENT
DTSTART;TZID=America/Phoenix:20220430T160000
DTEND;TZID=America/Phoenix:20220430T190000
DTSTAMP:20260425T035451
CREATED:20220321T153134Z
LAST-MODIFIED:20220329T181031Z
UID:6428-1651334400-1651345200@jlpatisserie.com
SUMMARY:Sourdough & Baguettes
DESCRIPTION:Sourdough & Baguettes \nLevel: All. \nDuring this 3hr hands-on class\, you will learn the art of French bread baking right here in Scottsdale\, AZ. Chef Jenna will lead the class while sharing techniques and shaping methods that you can take home. Yup\, you might want to do this at home after becoming a pro in our class! \nEach step will be explained\, and you will experience the entire process from start to finish! While our breads require fermentation\, we will work on dough that has been prepared. Nonetheless\, you will follow the bread making process hands-on from start to finish! \nEach participant will get to mix\, shape and proof their own loaf of sourdough bread during the class. You’ll also learn all about sourdough on top of it! Enjoy your baked items at home! \nLeave the class feeling confident and ready to make your own sourdough bread at home using a dutch oven and proofing baskets. \nMust be 16 or older to attend. \nCasual attire. Aprons and water will be provided.
URL:https://jlpatisserie.com/class/sourdough-baking-class/
LOCATION:JL Patisserie\, 7342 E shea Blvd #108\, Scottsdale\, AZ\, 85260\, United States
CATEGORIES:Baking Classes
ATTACH;FMTTYPE=image/jpeg:https://jlpatisserie.com/wp-content/uploads/IMG_1546-1.jpg
END:VEVENT
END:VCALENDAR