BEGIN:VCALENDAR
VERSION:2.0
PRODID:-//JL Patisserie - ECPv6.15.20//NONSGML v1.0//EN
CALSCALE:GREGORIAN
METHOD:PUBLISH
X-ORIGINAL-URL:https://jlpatisserie.com
X-WR-CALDESC:Events for JL Patisserie
REFRESH-INTERVAL;VALUE=DURATION:PT1H
X-Robots-Tag:noindex
X-PUBLISHED-TTL:PT1H
BEGIN:VTIMEZONE
TZID:America/Phoenix
BEGIN:STANDARD
TZOFFSETFROM:-0700
TZOFFSETTO:-0700
TZNAME:MST
DTSTART:20220101T000000
END:STANDARD
END:VTIMEZONE
BEGIN:VEVENT
DTSTART;TZID=America/Phoenix:20230415T150000
DTEND;TZID=America/Phoenix:20230415T180000
DTSTAMP:20260424T065649
CREATED:20230301T201808Z
LAST-MODIFIED:20230301T201808Z
UID:10429-1681570800-1681581600@jlpatisserie.com
SUMMARY:French Croissant Baking Class
DESCRIPTION:French Croissant Baking Class – Level: All \nFlaky layers of buttery goodness? Totally doable! We’ll show you how—from mixing and laminating dough to shaping and baking two types of croissants. And the best part? Sampling all your amazing creations. \nA great croissant is about more than a recipe; it’s about technique. In our French croissant baking class\, you’ll work together with other students in a fun\, hands-on environment led by Jenna Leurquin. The chef will go over the ingredients necessary\, how to select quality ingredients\, how to work and shape the dough and how to properly laminate it with butter. We will also go over proper proofing and natural fermentation methods such as sourdough levain. \nMust be 16 or older to attend our croissant baking class. If younger must be accompanied by an adult. \nFew things to know before your french baking classes: \n\nTHIS IS A REQUIREMENT: Do not wear open-toe shoes\, sandals\, or heels as our kitchen floor can be very slippery. Sneakers and low platform shoes are best. You will not be accepted in the class if you are wearing sandals or heels.\nCasual attire is best\, as you might be getting dirty.\nWe are a fun BYOW environment! (Bring Your Own Wine) Let’s Bake and Drink!\nBook your class today!\n\nClasses will take place at our Scottsdale location. Spots are limited and reserve fast!\n\nIf you encounter any problems while purchasing your baking class ticket\, call us or email us and we will be happy to assist you with your order. We still offer our private baking classes like we have been doing so\, but now you can easily join a group of people who share the same excitement to experience what our bakers do every day.\n\n\n\nAll sales are final.\n 
URL:https://jlpatisserie.com/class/french-croissant-baking-class-13/
LOCATION:JL Patisserie\, 7342 E shea Blvd #108\, Scottsdale\, AZ\, 85260\, United States
CATEGORIES:Baking Classes
ATTACH;FMTTYPE=image/jpeg:https://jlpatisserie.com/wp-content/uploads/Facetune_17-09-2021-13-13-27-scaled.jpg
END:VEVENT
BEGIN:VEVENT
DTSTART;TZID=America/Phoenix:20230420T160000
DTEND;TZID=America/Phoenix:20230420T180000
DTSTAMP:20260424T065649
CREATED:20230301T211338Z
LAST-MODIFIED:20230301T211338Z
UID:10436-1682006400-1682013600@jlpatisserie.com
SUMMARY:Macaron Baking Class
DESCRIPTION:Macaron Baking Class Level: All. \nJL Patisserie offers not only high-end pastries but high-end baking classes located right here in Scottsdale\, Arizona. Classes range from learning how to make bread\, eclairs\, croissants\, macarons\, and more. You will become a French baker in no time! Bring along your friends or family for a good time and work alongside others who will also be joining this class. In this specific class\, you will be mastering the art of macarons. \nJoin pastry chef Jenna Leurquin and learn to confection authentic french macarons from scratch. The chef will go over the ingredients necessary\, how to select quality ingredients and all the tools to prepare the batter and filling ganaches.  You will also get to discover decorating tricks and tools for successful baking and consistent finish. \nMust be 16 or older to attend. Younger ages are allowed to join a class as long as they are accompanied by a parent/legal guardian. \nLimited class of 14. \nFew things to know before your french baking classes: \n\nREQUIRED: Do not wear open-toe shoes\, sandals\, or heels as our kitchen floor can be very slippery. Sneakers and low platform shoes are best.\nCasual attire is best\, as you might be getting dirty.\nWe are a fun BYOW environment! (Bring Your Own Wine) Let’s Bake and Drink!\nBook your class today!\n\nAll sales are final.
URL:https://jlpatisserie.com/class/macaron-baking-class-12/
LOCATION:JL Patisserie\, 7342 E shea Blvd #108\, Scottsdale\, AZ\, 85260\, United States
CATEGORIES:Baking Classes
ATTACH;FMTTYPE=image/png:https://jlpatisserie.com/wp-content/uploads/Screen-Shot-2018-12-14-at-11.54.02-PM.png
END:VEVENT
BEGIN:VEVENT
DTSTART;TZID=America/Phoenix:20230426T150000
DTEND;TZID=America/Phoenix:20230426T180000
DTSTAMP:20260424T065649
CREATED:20230301T211756Z
LAST-MODIFIED:20230301T211756Z
UID:10440-1682521200-1682532000@jlpatisserie.com
SUMMARY:French Croissant Baking Class
DESCRIPTION:French Croissant Baking Class – Level: All \nFlaky layers of buttery goodness? Totally doable! We’ll show you how—from mixing and laminating dough to shaping and baking two types of croissants. And the best part? Sampling all your amazing creations. \nA great croissant is about more than a recipe; it’s about technique. In our French croissant baking class\, you’ll work together with other students in a fun\, hands-on environment led by Jenna Leurquin. The chef will go over the ingredients necessary\, how to select quality ingredients\, how to work and shape the dough and how to properly laminate it with butter. We will also go over proper proofing and natural fermentation methods such as sourdough levain. \nMust be 16 or older to attend our croissant baking class. If younger must be accompanied by an adult. \nFew things to know before your french baking classes: \n\nTHIS IS A REQUIREMENT: Do not wear open-toe shoes\, sandals\, or heels as our kitchen floor can be very slippery. Sneakers and low platform shoes are best. You will not be accepted in the class if you are wearing sandals or heels.\nCasual attire is best\, as you might be getting dirty.\nWe are a fun BYOW environment! (Bring Your Own Wine) Let’s Bake and Drink!\nBook your class today!\n\nClasses will take place at our Scottsdale location. Spots are limited and reserve fast!\n\nIf you encounter any problems while purchasing your baking class ticket\, call us or email us and we will be happy to assist you with your order. We still offer our private baking classes like we have been doing so\, but now you can easily join a group of people who share the same excitement to experience what our bakers do every day.\n\n\n\nAll sales are final.\n 
URL:https://jlpatisserie.com/class/french-croissant-baking-class-14/
LOCATION:JL Patisserie\, 7342 E shea Blvd #108\, Scottsdale\, AZ\, 85260\, United States
CATEGORIES:Baking Classes
ATTACH;FMTTYPE=image/jpeg:https://jlpatisserie.com/wp-content/uploads/Facetune_17-09-2021-13-13-27-scaled.jpg
END:VEVENT
END:VCALENDAR