BEGIN:VCALENDAR
VERSION:2.0
PRODID:-//JL Patisserie - ECPv6.15.20//NONSGML v1.0//EN
CALSCALE:GREGORIAN
METHOD:PUBLISH
X-ORIGINAL-URL:https://jlpatisserie.com
X-WR-CALDESC:Events for JL Patisserie
REFRESH-INTERVAL;VALUE=DURATION:PT1H
X-Robots-Tag:noindex
X-PUBLISHED-TTL:PT1H
BEGIN:VTIMEZONE
TZID:America/Phoenix
BEGIN:STANDARD
TZOFFSETFROM:-0700
TZOFFSETTO:-0700
TZNAME:MST
DTSTART:20230101T000000
END:STANDARD
END:VTIMEZONE
BEGIN:VEVENT
DTSTART;TZID=America/Phoenix:20240201T160000
DTEND;TZID=America/Phoenix:20240201T180000
DTSTAMP:20260423T125657
CREATED:20240112T153345Z
LAST-MODIFIED:20240112T153345Z
UID:13732-1706803200-1706810400@jlpatisserie.com
SUMMARY:French Macarons Baking Class
DESCRIPTION:Macaron Baking Class Level: All. \nJL Patisserie offers not only high-end pastries but high-end baking classes located right here in Scottsdale\, Arizona. Classes range from learning how to make bread\, eclairs\, croissants\, macarons\, and more. You will become a French baker in no time! Bring along your friends or family for a good time and work alongside others who will also be joining this class. In this specific class\, you will be mastering the art of macarons. \nJoin pastry chef Jenna Leurquin and learn to confection authentic french macarons from scratch. The chef will go over the ingredients necessary\, how to select quality ingredients and all the tools to prepare the batter and filling ganaches.  You will also get to discover decorating tricks and tools for successful baking and consistent finish. \nMust be 16 or older to attend. Younger ages are allowed to join a class as long as they are accompanied by a parent/legal guardian. \nFew things to know before your french baking classes: \n\nREQUIRED: Do not wear open-toe shoes\, sandals\, or heels as our kitchen floor can be very slippery. Sneakers and low platform shoes are best.\nCasual attire is best\, as you might be getting dirty.\nWe are a fun BYOW environment! (Bring Your Own Wine) Let’s Bake and Drink!\nBook your class today!\n\nAll sales are final.
URL:https://jlpatisserie.com/class/french-macarons-baking-class/
LOCATION:JL Patisserie\, 7342 E shea Blvd #108\, Scottsdale\, AZ\, 85260\, United States
CATEGORIES:Baking Classes
ATTACH;FMTTYPE=image/png:https://jlpatisserie.com/wp-content/uploads/Screen-Shot-2018-12-14-at-11.54.02-PM.png
END:VEVENT
BEGIN:VEVENT
DTSTART;TZID=America/Phoenix:20240208T170000
DTEND;TZID=America/Phoenix:20240208T183000
DTSTAMP:20260423T125657
CREATED:20230705T183044Z
LAST-MODIFIED:20240112T165753Z
UID:11574-1707411600-1707417000@jlpatisserie.com
SUMMARY:Heart Shape Cake Decoration & Frosting
DESCRIPTION:Fun\, hands on cake decorating class. \nJL Patisserie offers not only high-end pastries but high-end baking classes located right here in Scottsdale\, Arizona. Classes range from learning how to make bread\, eclairs\, croissants\, macarons\, and more. You will become a French baker in no time! Bring along your friends or family for a good time and work alongside others who will also be joining this class. In this specific class\, you will be mastering the art of macarons. \nJoin pastry chef Jenna Leurquin and learn to confection decorate a cake with buttercream frosting. The chef will go over the ingredients necessary\, how to select quality ingredients and all the tools to prepare the batter and fillings.  You will get to discover decorating tricks and tools for successful baking and consistent finish. \nMust be 16 or older to attend. Younger ages are allowed to join a class as long as they are accompanied by a parent/legal guardian. \nFew things to know before your french baking classes: \n\nREQUIRED: Do not wear open-toe shoes\, sandals\, or heels as our kitchen floor can be very slippery. Sneakers and low platform shoes are best.\nCasual attire is best\, as you might be getting dirty.\nWe are a fun BYOW environment! (Bring Your Own Wine) Let’s Bake and Drink!\nBook your class today!\n\nAll sales are final.
URL:https://jlpatisserie.com/class/heartshaped-cakedeco/
LOCATION:JL Patisserie\, 7342 E shea Blvd #108\, Scottsdale\, AZ\, 85260\, United States
CATEGORIES:Baking Classes
ATTACH;FMTTYPE=image/png:https://jlpatisserie.com/wp-content/uploads/Screen-Shot-2024-01-12-at-8.58.53-AM.png
END:VEVENT
BEGIN:VEVENT
DTSTART;TZID=America/Phoenix:20240214T160000
DTEND;TZID=America/Phoenix:20240214T190000
DTSTAMP:20260423T125657
CREATED:20240112T154538Z
LAST-MODIFIED:20240112T165904Z
UID:13745-1707926400-1707937200@jlpatisserie.com
SUMMARY:VDAY Baguettes Class Date night
DESCRIPTION:Sourdough & Baguettes \nLevel: All. \nDuring this 3hr hands-on class\, you will learn the art of French bread baking right here in Scottsdale\, AZ. Chef Jenna will lead the class while sharing techniques and shaping methods that you can take home. Yup\, you might want to do this at home after becoming a pro in our class! \nEach step will be explained\, and you will experience the entire process from start to finish! Since our breads require fermentation\, we will work on dough that has been prepared. Nonetheless\, you will follow the bread making process hands-on from start to finish! \nEach participant will get to shape and proof their own baguette of sourdough bread during the class. You’ll also learn all about sourdough on top of it! Enjoy your baked items at home! \nLeave the class feeling confident and ready to make your own sourdough bread at home using a dutch oven and proofing baskets. \nMust be 16 or older to attend. \nCasual attire. \nREQUIRED: Do not to wear open toe shoes\, sandals or heels as our kitchen floor can be very slippery. Sneakers and low platform shoes are best.
URL:https://jlpatisserie.com/class/baguettes-class-7/
LOCATION:JL Patisserie\, 7342 E shea Blvd #108\, Scottsdale\, AZ\, 85260\, United States
CATEGORIES:Baking Classes
ATTACH;FMTTYPE=image/jpeg:https://jlpatisserie.com/wp-content/uploads/IMG_1546-1.jpg
END:VEVENT
BEGIN:VEVENT
DTSTART;TZID=America/Phoenix:20240217T150000
DTEND;TZID=America/Phoenix:20240217T180000
DTSTAMP:20260423T125657
CREATED:20240112T153932Z
LAST-MODIFIED:20240112T153932Z
UID:13740-1708182000-1708192800@jlpatisserie.com
SUMMARY:French Croissant Baking Class
DESCRIPTION:French Croissant Baking Class – Level: All \nFlaky layers of buttery goodness? Totally doable! We’ll show you how—from mixing and laminating dough to shaping and baking two types of croissants. And the best part? Sampling all your amazing creations. \nA great croissant is about more than a recipe; it’s about technique. In our French croissant baking class\, you’ll work together with other students in a fun\, hands-on environment led by Jenna Leurquin. The chef will go over the ingredients necessary\, how to select quality ingredients\, how to work and shape the dough and how to properly laminate it with butter. We will also go over proper proofing and natural fermentation methods such as sourdough levain. \nMust be 16 or older to attend our croissant baking class. If younger must be accompanied by an adult. \nFew things to know before your french baking classes: \n\nTHIS IS A REQUIREMENT: Do not wear open-toe shoes\, sandals\, or heels as our kitchen floor can be very slippery. Sneakers and low platform shoes are best. You will not be accepted in the class if you are wearing sandals or heels.\nCasual attire is best\, as you might be getting dirty.\nWe are a fun BYOW environment! (Bring Your Own Wine) Let’s Bake and Drink!\nBook your class today!\n\nClasses will take place at our Scottsdale location. Spots are limited and reserve fast!\n\nIf you encounter any problems while purchasing your baking class ticket\, call us or email us and we will be happy to assist you with your order. We still offer our private baking classes like we have been doing so\, but now you can easily join a group of people who share the same excitement to experience what our bakers do every day.\n\n\n\nAll sales are final.\n 
URL:https://jlpatisserie.com/class/french-croissant-baking-class-26/
LOCATION:JL Patisserie\, 7342 E shea Blvd #108\, Scottsdale\, AZ\, 85260\, United States
CATEGORIES:Baking Classes
ATTACH;FMTTYPE=image/jpeg:https://jlpatisserie.com/wp-content/uploads/DSC_0814-scaled.jpg
END:VEVENT
BEGIN:VEVENT
DTSTART;TZID=America/Phoenix:20240220T160000
DTEND;TZID=America/Phoenix:20240220T180000
DTSTAMP:20260423T125657
CREATED:20240112T154152Z
LAST-MODIFIED:20240112T163028Z
UID:13743-1708444800-1708452000@jlpatisserie.com
SUMMARY:Authentic French Eclairs Baking Class
DESCRIPTION:Authentic French Eclairs Baking Class – Level: All. \n\nWe are mad about Choux pastry! Introducing our eclairs baking class dedicated to this versatile French dough\, the pâte à choux. Think cream puffs with that oh so French touch!  \nYou have no doubt already indulged in French pastries using this dough. Whether as a savoury cheesy gougère or a cream-filled sweet éclair – this is a recipe to add to your repertoire. In this 2-hour French eclair baking class\, we’ll be concentrating the éclair which is a part of the choux pastry family\, as is profiteroles and other classic french pastries.  \n\nDuring this eclair baking class\, you will learn how to dry the eclair dough and shape in various forms. You will also learn different filling and glazing options and uses to make either breakfast or plated desserts for your guests. \nMust be 16 or older to attend. \nREQUIRED: Do not wear open toe shoes\, sandals or heels as our kitchen floor can be very slippery. Sneakers and low platform shoes are best. \nWe will provide you with an apron upon your arrival that you will wear during the duration of your class. (Apron will be available for purchase) \nWe are a fun BYOW environment! (Bring Your Own Wine) Let’s Bake and Drink! \nall sale are final. \nBOOK YOUR CLASS!
URL:https://jlpatisserie.com/class/authentic-french-eclairs-baking-class-10/
LOCATION:JL Patisserie\, 7342 E shea Blvd #108\, Scottsdale\, AZ\, 85260\, United States
CATEGORIES:Baking Classes
ATTACH;FMTTYPE=image/jpeg:https://jlpatisserie.com/wp-content/uploads/Chocolate-Éclair.jpg
END:VEVENT
BEGIN:VEVENT
DTSTART;TZID=America/Phoenix:20240222T160000
DTEND;TZID=America/Phoenix:20240222T180000
DTSTAMP:20260423T125657
CREATED:20240112T153536Z
LAST-MODIFIED:20240220T201634Z
UID:13735-1708617600-1708624800@jlpatisserie.com
SUMMARY:French Macarons Baking Class
DESCRIPTION:Macaron Baking Class Level: All. \nJL Patisserie offers not only high-end pastries but high-end baking classes located right here in Scottsdale\, Arizona. Classes range from learning how to make bread\, eclairs\, croissants\, macarons\, and more. You will become a French baker in no time! Bring along your friends or family for a good time and work alongside others who will also be joining this class. In this specific class\, you will be mastering the art of macarons. \nJoin pastry chef Jenna Leurquin and learn to confection authentic french macarons from scratch. The chef will go over the ingredients necessary\, how to select quality ingredients and all the tools to prepare the batter and filling ganaches.  You will also get to discover decorating tricks and tools for successful baking and consistent finish. \nMust be 16 or older to attend. Younger ages are allowed to join a class as long as they are accompanied by a parent/legal guardian. \nFew things to know before your french baking classes: \n\nREQUIRED: Do not wear open-toe shoes\, sandals\, or heels as our kitchen floor can be very slippery. Sneakers and low platform shoes are best.\nCasual attire is best\, as you might be getting dirty.\nWe are a fun BYOW environment! (Bring Your Own Wine) Let’s Bake and Drink!\nBook your class today!\n\nAll sales are final.
URL:https://jlpatisserie.com/class/french-macarons-baking-class-2/
LOCATION:JL Patisserie\, 7342 E shea Blvd #108\, Scottsdale\, AZ\, 85260\, United States
CATEGORIES:Baking Classes
ATTACH;FMTTYPE=image/png:https://jlpatisserie.com/wp-content/uploads/Screen-Shot-2018-12-14-at-11.54.02-PM.png
END:VEVENT
BEGIN:VEVENT
DTSTART;TZID=America/Phoenix:20240224T150000
DTEND;TZID=America/Phoenix:20240224T180000
DTSTAMP:20260423T125657
CREATED:20240112T155354Z
LAST-MODIFIED:20240112T163826Z
UID:13748-1708786800-1708797600@jlpatisserie.com
SUMMARY:Sourdough Starter and Sourdough bread
DESCRIPTION:Sourdough & Bread \nLevel: All. \nDuring this 3hr hands-on class\, you will learn the art of French bread baking right here in Scottsdale\, AZ. Chef Jenna will lead the class while sharing techniques and shaping methods that you can take home. Yup\, you might want to do this at home after becoming a pro in our class! \nEach step will be explained\, and you will experience the entire process from start to finish! Since our breads require fermentation\, we will work on dough that has been prepared. Nonetheless\, you will follow the bread making process hands-on from start to finish! \nEach participant will get to shape and proof their own sourdough bread during the class. You’ll also learn all about sourdough on top of it! Enjoy your baked items at home! \nLeave the class feeling confident and ready to make your own sourdough bread at home using a dutch oven and proofing baskets. \nMust be 16 or older to attend. \nCasual attire. \nREQUIRED: Do not to wear open toe shoes\, sandals or heels as our kitchen floor can be very slippery. Sneakers and low platform shoes are best.
URL:https://jlpatisserie.com/class/sourdough-starter-and-sourdough-bread/
LOCATION:JL Patisserie\, 7342 E shea Blvd #108\, Scottsdale\, AZ\, 85260\, United States
CATEGORIES:Baking Classes
ATTACH;FMTTYPE=image/jpeg:https://jlpatisserie.com/wp-content/uploads/924FD5C6-AB67-4230-BAA1-885BF64EB6C5-scaled.jpeg
END:VEVENT
END:VCALENDAR