BEGIN:VCALENDAR
VERSION:2.0
PRODID:-//JL Patisserie - ECPv6.15.20//NONSGML v1.0//EN
CALSCALE:GREGORIAN
METHOD:PUBLISH
X-ORIGINAL-URL:https://jlpatisserie.com
X-WR-CALDESC:Events for JL Patisserie
REFRESH-INTERVAL;VALUE=DURATION:PT1H
X-Robots-Tag:noindex
X-PUBLISHED-TTL:PT1H
BEGIN:VTIMEZONE
TZID:America/Phoenix
BEGIN:STANDARD
TZOFFSETFROM:-0700
TZOFFSETTO:-0700
TZNAME:MST
DTSTART:20220101T000000
END:STANDARD
END:VTIMEZONE
BEGIN:VTIMEZONE
TZID:UTC
BEGIN:STANDARD
TZOFFSETFROM:+0000
TZOFFSETTO:+0000
TZNAME:UTC
DTSTART:20220101T000000
END:STANDARD
END:VTIMEZONE
BEGIN:VEVENT
DTSTART;TZID=America/Phoenix:20231108T150000
DTEND;TZID=America/Phoenix:20231108T180000
DTSTAMP:20260425T044817
CREATED:20230920T210020Z
LAST-MODIFIED:20230920T210020Z
UID:12013-1699455600-1699466400@jlpatisserie.com
SUMMARY:French Croissant Baking Class
DESCRIPTION:French Croissant Baking Class – Level: All \nFlaky layers of buttery goodness? Totally doable! We’ll show you how—from mixing and laminating dough to shaping and baking two types of croissants. And the best part? Sampling all your amazing creations. \nA great croissant is about more than a recipe; it’s about technique. In our French croissant baking class\, you’ll work together with other students in a fun\, hands-on environment led by Jenna Leurquin. The chef will go over the ingredients necessary\, how to select quality ingredients\, how to work and shape the dough and how to properly laminate it with butter. We will also go over proper proofing and natural fermentation methods such as sourdough levain. \nMust be 16 or older to attend our croissant baking class. If younger must be accompanied by an adult. \nFew things to know before your french baking classes: \n\nTHIS IS A REQUIREMENT: Do not wear open-toe shoes\, sandals\, or heels as our kitchen floor can be very slippery. Sneakers and low platform shoes are best. You will not be accepted in the class if you are wearing sandals or heels.\nCasual attire is best\, as you might be getting dirty.\nWe are a fun BYOW environment! (Bring Your Own Wine) Let’s Bake and Drink!\nBook your class today!\n\nClasses will take place at our Scottsdale location. Spots are limited and reserve fast!\n\nIf you encounter any problems while purchasing your baking class ticket\, call us or email us and we will be happy to assist you with your order. We still offer our private baking classes like we have been doing so\, but now you can easily join a group of people who share the same excitement to experience what our bakers do every day.\n\n\n\nAll sales are final.\n 
URL:https://jlpatisserie.com/class/french-croissant-baking-class-23/
LOCATION:JL Patisserie\, 7342 E shea Blvd #108\, Scottsdale\, AZ\, 85260\, United States
CATEGORIES:Baking Classes
ATTACH;FMTTYPE=image/jpeg:https://jlpatisserie.com/wp-content/uploads/Facetune_17-09-2021-13-13-27-scaled.jpg
END:VEVENT
BEGIN:VEVENT
DTSTART;TZID=America/Phoenix:20231128T160000
DTEND;TZID=America/Phoenix:20231128T180000
DTSTAMP:20260425T044817
CREATED:20230920T210340Z
LAST-MODIFIED:20231110T212104Z
UID:12016-1701187200-1701194400@jlpatisserie.com
SUMMARY:Macarons Baking Class
DESCRIPTION:Macaron Baking Class Level: All. \nJL Patisserie offers not only high-end pastries but high-end baking classes located right here in Scottsdale\, Arizona. Classes range from learning how to make bread\, eclairs\, croissants\, macarons\, and more. You will become a French baker in no time! Bring along your friends or family for a good time and work alongside others who will also be joining this class. In this specific class\, you will be mastering the art of macarons. \nJoin pastry chef Jenna Leurquin and learn to confection authentic french macarons from scratch. The chef will go over the ingredients necessary\, how to select quality ingredients and all the tools to prepare the batter and filling ganaches.  You will also get to discover decorating tricks and tools for successful baking and consistent finish. \nMust be 16 or older to attend. Younger ages are allowed to join a class as long as they are accompanied by a parent/legal guardian. \nLimited class of 14. \nFew things to know before your french baking classes: \n\nREQUIRED: Do not wear open-toe shoes\, sandals\, or heels as our kitchen floor can be very slippery. Sneakers and low platform shoes are best.\nCasual attire is best\, as you might be getting dirty.\nWe are a fun BYOW environment! (Bring Your Own Wine) Let’s Bake and Drink!\nBook your class today!\n\nAll sales are final.
URL:https://jlpatisserie.com/class/macarons-baking-class-11/
LOCATION:JL Patisserie\, 7342 E shea Blvd #108\, Scottsdale\, AZ\, 85260\, United States
CATEGORIES:Baking Classes
ATTACH;FMTTYPE=image/png:https://jlpatisserie.com/wp-content/uploads/Screen-Shot-2018-12-14-at-11.54.02-PM.png
END:VEVENT
BEGIN:VEVENT
DTSTART;TZID=UTC:20231130T160000
DTEND;TZID=UTC:20231130T180000
DTSTAMP:20260425T044817
CREATED:20230920T210812Z
LAST-MODIFIED:20231110T211822Z
UID:12019-1701360000-1701367200@jlpatisserie.com
SUMMARY:Quiche Making Class
DESCRIPTION:Quiche making level: All \nThis highly requested class will focus on how to make quiche from scratch to finish. In this hands-on experience\, you will roll\, sheet\, and layer dough to create your quiche shell\, mix the proper ingredients to make your egg fill\, in addition to adding your own variety of vegetables to either make a seasonal veggie quiche or quiche lorraine. \nDue to a long baking period\, students will take home their finished products to complete the baking process at home to enjoy. \nA couple things to know before your class: \n\nCasual attire\nWe are BYOW: Bring Your Own Wine! Let’s drink and bake!\nREQUIRED: Do not wear open toe shoes such as sandals as our kitchen floor can be very slippery. Sneakers and low platform shoes are best.\nBook a class today!\n\n 
URL:https://jlpatisserie.com/class/quiche-making-class-2/
LOCATION:JL Patisserie\, 7342 E shea Blvd #108\, Scottsdale\, AZ\, 85260\, United States
CATEGORIES:Baking Classes
ATTACH;FMTTYPE=image/jpeg:https://jlpatisserie.com/wp-content/uploads/Facetune_19-07-2021-14-23-58.jpg
END:VEVENT
END:VCALENDAR