BEGIN:VCALENDAR
VERSION:2.0
PRODID:-//JL Patisserie - ECPv6.15.20//NONSGML v1.0//EN
CALSCALE:GREGORIAN
METHOD:PUBLISH
X-ORIGINAL-URL:https://jlpatisserie.com
X-WR-CALDESC:Events for JL Patisserie
REFRESH-INTERVAL;VALUE=DURATION:PT1H
X-Robots-Tag:noindex
X-PUBLISHED-TTL:PT1H
BEGIN:VTIMEZONE
TZID:America/Phoenix
BEGIN:STANDARD
TZOFFSETFROM:-0700
TZOFFSETTO:-0700
TZNAME:MST
DTSTART:20250101T000000
END:STANDARD
END:VTIMEZONE
BEGIN:VEVENT
DTSTART;TZID=America/Phoenix:20260502T150000
DTEND;TZID=America/Phoenix:20260502T180000
DTSTAMP:20260423T052350
CREATED:20260127T203214Z
LAST-MODIFIED:20260205T182922Z
UID:24054-1777734000-1777744800@jlpatisserie.com
SUMMARY:Summer Pavlova Baking Class 5.2.26
DESCRIPTION:Join Chef Jenna and learn to create a stunning Spring Pavlova shaped like an edible floral wreath\, light as air\, and perfect for Mother’s Day or any spring celebration! \nWhat you will learn:\n– Ingredient selection\n– Meringue Technique\n– Shaping and preparation\n– Decoration \nYou will leave this class not only with your own beautifully decorated Spring Pavlova\, but with the skills and confidence to recreate this elegant dessert all season long.\nLet’s bake something truly beautiful together! \n*No open-toed shoes. Please dress casually and comfortably.\n*Must be 16 or older to attend baking class. An adult must accompany children under 16.\nOne ticket per person. All sales are final.
URL:https://jlpatisserie.com/class/summer-pavlova-class/
LOCATION:JL Patisserie\, 7342 E shea Blvd #108\, Scottsdale\, AZ\, 85260\, United States
CATEGORIES:Baking Classes
ATTACH;FMTTYPE=image/jpeg:https://jlpatisserie.com/wp-content/uploads/DSC_0023-scaled-1.jpg
END:VEVENT
END:VCALENDAR